BEGIN:VCALENDAR
VERSION:2.0
PRODID:-//Date iCal v2.14-dev//NONSGML kigkonsult.se iCalcreator 2.16.6//
METHOD:PUBLISH
X-WR-CALNAME;VALUE=TEXT:Greater Baltimore Cultural Alliance
BEGIN:VTIMEZONE
TZID:America/New_York
BEGIN:STANDARD
DTSTART:20211107T020000
TZOFFSETFROM:-0400
TZOFFSETTO:-0500
TZNAME:EST
END:STANDARD
BEGIN:DAYLIGHT
DTSTART:20220313T020000
TZOFFSETFROM:-0500
TZOFFSETTO:-0400
TZNAME:EDT
END:DAYLIGHT
END:VTIMEZONE
BEGIN:VEVENT
UID:calendar.30404.field_fc_date.0@culturefly.org
DTSTAMP:20260425T103702Z
ATTACH;FMTTYPE=image/jpeg:https://culturefly.org/sites/default/files/u147/S
 cenes%20From%2073%20Years.jpg
CATEGORIES:,,Performance,
CREATED:20210610T201046Z
DESCRIPTION:*EXTENDED!*\n\n/*Scenes From 73* Years*/\n\n*Written by Hannah 
 Khalil Co-directed by Najla Said and Rohina Malik Produced in partnership 
 with Medina Theater Collective*\n\n*Streaming on-line through July 11!*\n
 \nPalestine. An epic snapshot of life under occupation.
DTSTART;TZID=America/New_York:20210610T000000
DTEND;TZID=America/New_York:20210711T120000
LAST-MODIFIED:20230930T001256Z
LOCATION:Virtual Event!, This event takes place online., Participate from
  Anywhere you are!, MD
SUMMARY:Scenes From 73* Years
URL:https://www.theatreproject.org/scenes-from-73-years/
X-GBCA-NID:30404
END:VEVENT
END:VCALENDAR
