BEGIN:VCALENDAR
VERSION:2.0
PRODID:-//Date iCal v2.14-dev//NONSGML kigkonsult.se iCalcreator 2.16.6//
METHOD:PUBLISH
X-WR-CALNAME;VALUE=TEXT:Greater Baltimore Cultural Alliance
BEGIN:VTIMEZONE
TZID:America/New_York
BEGIN:STANDARD
DTSTART:20211107T020000
TZOFFSETFROM:-0400
TZOFFSETTO:-0500
TZNAME:EST
END:STANDARD
BEGIN:DAYLIGHT
DTSTART:20220313T020000
TZOFFSETFROM:-0500
TZOFFSETTO:-0400
TZNAME:EDT
END:DAYLIGHT
END:VTIMEZONE
BEGIN:VEVENT
UID:calendar.30358.field_fc_date.0@culturefly.org
DTSTAMP:20260420T105014Z
ATTACH;FMTTYPE=image/jpeg:https://culturefly.org/sites/default/files/u4548/
 6-29-2021%20Laura%26Lakshmi%20rev_0.jpg
CATEGORIES:,,,Lectures/ Workshops,
CREATED:20210520T204046Z
DESCRIPTION:ART SEMINAR GROUP WEBINAR - ONLINE PROGRAM THROUGH ZOOM\n\nThe 
 Mystery of the 2000 year old Indian 'goddess' found at Pompeii\n\nLaura We
 instein, art historian, Emmy-nominated filmmaker, lecturer and site  gu
 ide; founder & owner, Roman Holiday Tours and Lectures
DTSTART;TZID=America/New_York:20210629T133000
DTEND;TZID=America/New_York:20210629T150000
LAST-MODIFIED:20230930T001256Z
LOCATION:Virtual Event!, This event takes place online., Participate from
  Anywhere you are!, MD
SUMMARY:WEBINAR: Laura Weinstein, 'The Mystery of the 2000 year old Indian
  'goddess'  found at Pompeii'
URL:https://www.artseminargroup.org/events/laura-weinstein-the-mystery-of-t
 he-2000-year-old-indian-goddess-found-at-pompeii
X-GBCA-NID:30358
END:VEVENT
END:VCALENDAR
