BEGIN:VCALENDAR
VERSION:2.0
PRODID:-//Date iCal v2.14-dev//NONSGML kigkonsult.se iCalcreator 2.16.6//
METHOD:PUBLISH
X-WR-CALNAME;VALUE=TEXT:Greater Baltimore Cultural Alliance
BEGIN:VTIMEZONE
TZID:America/New_York
BEGIN:STANDARD
DTSTART:20211107T020000
TZOFFSETFROM:-0400
TZOFFSETTO:-0500
TZNAME:EST
END:STANDARD
BEGIN:DAYLIGHT
DTSTART:20220313T020000
TZOFFSETFROM:-0500
TZOFFSETTO:-0400
TZNAME:EDT
END:DAYLIGHT
END:VTIMEZONE
BEGIN:VEVENT
UID:calendar.30188.field_fc_date.0@culturefly.org
DTSTAMP:20260424T125821Z
ATTACH;FMTTYPE=image/png:https://culturefly.org/sites/default/files/event-i
 mage/Sundays%209AM-1PM%20_%20May%2016-October%2024.png
CATEGORIES:
CREATED:20210420T213821Z
DESCRIPTION:The 2021 Downtown Sykesville Farmers Market is nestled in histo
 ric  Sykesville. Vendors are set up on Baldwin Drive or integrated in the 
 fabric  of our charming shopping district, in between the unique shops an
 d boutiques  of the Best Main Street in America 2020 (award by Independent
  We Stand).\n\nThe Market runs every Sunday, 9:00am-1:00pm from May 16th 
 to Oct 24th!
DTSTART;TZID=America/New_York:20210516T090000
DTEND;TZID=America/New_York:20210516T130000
GEO:+39.364224;-76.969239
LAST-MODIFIED:20210421T175212Z
LOCATION:Main Street, Sykesville, 7547 Main Street, Sykesville, MD
RRULE:FREQ=WEEKLY;UNTIL=20211025T075959Z;INTERVAL=1;BYDAY=SU;WKST=SU
SUMMARY:Downtown Sykesville Farmers Market
URL;TYPE=URI:https://culturefly.org/calendar/event/30188/downtown-sykesvill
 e-farmers-market
X-GBCA-NID:30188
END:VEVENT
END:VCALENDAR
