BEGIN:VCALENDAR
VERSION:2.0
PRODID:-//Date iCal v2.14-dev//NONSGML kigkonsult.se iCalcreator 2.16.6//
METHOD:PUBLISH
X-WR-CALNAME;VALUE=TEXT:Greater Baltimore Cultural Alliance
BEGIN:VTIMEZONE
TZID:America/New_York
BEGIN:STANDARD
DTSTART:20211107T020000
TZOFFSETFROM:-0400
TZOFFSETTO:-0500
TZNAME:EST
END:STANDARD
BEGIN:DAYLIGHT
DTSTART:20220313T020000
TZOFFSETFROM:-0500
TZOFFSETTO:-0400
TZNAME:EDT
END:DAYLIGHT
END:VTIMEZONE
BEGIN:VEVENT
UID:calendar.30175.field_fc_date.0@culturefly.org
DTSTAMP:20260425T191027Z
ATTACH;FMTTYPE=image/png:https://culturefly.org/sites/default/files/event-i
 mage/Screen-Shot-2021-04-15-at-4.25.25-PM.png
CATEGORIES:Lectures/ Workshops,History & Heritage,
CREATED:20210419T133924Z
DESCRIPTION:For a tiny neighborhood squeezed between the University of Mary
 land and  Camden Yards, Ridgely’s Delight contains an oversized history. 
 George  Washington slept here and Babe Ruth was born here! Join us to walk
  the  preserved, picturesque streets of one of the earliest neighborhoods
  in  Baltimore while we look back at the stories of both its famous visito
 rs and  the ordinary Baltimoreans who worked and raised their families her
 e.
DTSTART;TZID=America/New_York:20210613T093000
DTEND;TZID=America/New_York:20210613T103000
GEO:+39.285577;-76.6248
LAST-MODIFIED:20210419T174846Z
LOCATION:Babe Ruth Birthplace and Museum, 216 Emory Street, Baltimore, M
 D
SUMMARY:Historic Ridgely’s Delight
URL:https://baltimoreheritage.org/event/historic-ridgelys-delight/
X-GBCA-NID:30175
END:VEVENT
END:VCALENDAR
