BEGIN:VCALENDAR
VERSION:2.0
PRODID:-//Date iCal v2.14-dev//NONSGML kigkonsult.se iCalcreator 2.16.6//
METHOD:PUBLISH
X-WR-CALNAME;VALUE=TEXT:Greater Baltimore Cultural Alliance
BEGIN:VTIMEZONE
TZID:America/New_York
BEGIN:STANDARD
DTSTART:20211107T020000
TZOFFSETFROM:-0400
TZOFFSETTO:-0500
TZNAME:EST
END:STANDARD
BEGIN:DAYLIGHT
DTSTART:20220313T020000
TZOFFSETFROM:-0500
TZOFFSETTO:-0400
TZNAME:EDT
END:DAYLIGHT
END:VTIMEZONE
BEGIN:VEVENT
UID:calendar.30132.field_fc_date.0@culturefly.org
DTSTAMP:20260420T074046Z
ATTACH;FMTTYPE=image/jpeg:https://culturefly.org/sites/default/files/u497/T
 he%20Voyager%20Ensemble%20x.jpg
CATEGORIES:,,
CREATED:20210326T194045Z
DESCRIPTION:The *Voyager Ensemble* returns to UMBC with The Japanese Connec
 tion,  featuring musicians and music from Japan! The program celebrates o
 ld and new  works from Japan, with timeless classic A Way a Lone for stri
 ng quartet by  Toru Takemitsu as well as a world-premiere by Yuriko Hase K
 ojima, a string  quartet based on landscape installation Sunken Garden by
  the legendary  Japanese-American sculptor Isamu Noguchi. A special guest 
 artist, James  Nyoraku Schlefer, will join the ensemble on shakuhachi (J
 apanese wooden  flute), bringing his own composition 2 Blue for shakuhach
 i and viola.
DTSTART;TZID=America/New_York:20210415T193000
DTEND;TZID=America/New_York:20210415T210000
LAST-MODIFIED:20231130T001256Z
LOCATION:Virtual Event!, This event takes place online., Participate from
  Anywhere you are!, MD
SUMMARY:Voyager Ensemble: The Japanese Connection
URL:https://artsandculture.umbc.edu/event/the-japanese-connection/
X-GBCA-NID:30132
END:VEVENT
END:VCALENDAR
