BEGIN:VCALENDAR
VERSION:2.0
PRODID:-//Date iCal v2.14-dev//NONSGML kigkonsult.se iCalcreator 2.16.6//
METHOD:PUBLISH
X-WR-CALNAME;VALUE=TEXT:Greater Baltimore Cultural Alliance
BEGIN:VTIMEZONE
TZID:America/New_York
BEGIN:STANDARD
DTSTART:20201101T020000
TZOFFSETFROM:-0400
TZOFFSETTO:-0500
RDATE:20211107T020000
TZNAME:EST
END:STANDARD
BEGIN:DAYLIGHT
DTSTART:20210314T020000
TZOFFSETFROM:-0500
TZOFFSETTO:-0400
TZNAME:EDT
END:DAYLIGHT
END:VTIMEZONE
BEGIN:VEVENT
UID:calendar.28564.field_fc_date.0@culturefly.org
DTSTAMP:20260421T132540Z
ATTACH;FMTTYPE=image/jpeg:https://culturefly.org/sites/default/files/881943
 30_3078157672218365_9073718595824910336_o.jpg
CATEGORIES:,
CREATED:20201001T180713Z
DESCRIPTION:A fundraiser and gala for the Baltimore Rock Opera Society to o
 fficially kick  off our tenth year of operation! Join the Baltimore Rock O
 pera Society for  Swanktacular VI: 10th Anniversary Special!\n\nImagine a 
 1970's TV awards show of epic proportions. This year's star-studded  event
  will be hosted by the dynamic duo and BROS performance alum, Rex and  La
 uren Anderson! Witness your favorite BROS moments, meet a puppet or two,
   and support your city's flagship rock opera company on our 10th annivers
 ary  of creating original rock theater.
DTSTART;TZID=America/New_York:20201114T190000
DTEND;TZID=America/New_York:20201114T234500
LAST-MODIFIED:20201001T180713Z
LOCATION:Virtual Event!, This event takes place online., Participate from
  Anywhere you are!, MD
SUMMARY:Swanktacular VI: 10th Anniversary Special
URL:https://www.facebook.com/events/598915307332967/
X-GBCA-NID:28564
END:VEVENT
END:VCALENDAR
