BEGIN:VCALENDAR
VERSION:2.0
PRODID:-//Date iCal v2.14-dev//NONSGML kigkonsult.se iCalcreator 2.16.6//
METHOD:PUBLISH
X-WR-CALNAME;VALUE=TEXT:Greater Baltimore Cultural Alliance
BEGIN:VTIMEZONE
TZID:America/New_York
BEGIN:STANDARD
DTSTART:20201101T020000
TZOFFSETFROM:-0400
TZOFFSETTO:-0500
TZNAME:EST
END:STANDARD
BEGIN:DAYLIGHT
DTSTART:20210314T020000
TZOFFSETFROM:-0500
TZOFFSETTO:-0400
TZNAME:EDT
END:DAYLIGHT
END:VTIMEZONE
BEGIN:VEVENT
UID:calendar.28419.field_fc_date.0@culturefly.org
DTSTAMP:20260424T102050Z
ATTACH;FMTTYPE=image/jpeg:https://culturefly.org/sites/default/files/109536
 041_10159031378863484_8906060282508902798_o.jpg
CATEGORIES:,
CREATED:20200723T183656Z
DESCRIPTION:Super City’s old-school showmanship - coordinated band choreogr
 aphy and a  hooky pop sound that blends heavy rock elements and danceabili
 ty - is the  perfect match for Creative Alliance’s new streaming portal. S
 hows will be  broadcast LIVE from the Patterson Theater in HD with all sor
 ts of extra  surprises. These are the best seats on the internet, we prom
 ise.\n\n----\n\nAbout Super City:
DTSTART;TZID=America/New_York:20200801T200000
DTEND;TZID=America/New_York:20200801T214500
LAST-MODIFIED:20200906T000007Z
LOCATION:Virtual Event!, This event takes place online., Participate from
  Anywhere you are!, MD
SUMMARY:Super City: Virtual Front Row
URL:https://www.facebook.com/events/286710489071750/
X-GBCA-NID:28419
END:VEVENT
END:VCALENDAR
