BEGIN:VCALENDAR
VERSION:2.0
PRODID:-//Date iCal v2.14-dev//NONSGML kigkonsult.se iCalcreator 2.16.6//
METHOD:PUBLISH
X-WR-CALNAME;VALUE=TEXT:Greater Baltimore Cultural Alliance
BEGIN:VTIMEZONE
TZID:America/New_York
BEGIN:STANDARD
DTSTART:20201101T020000
TZOFFSETFROM:-0400
TZOFFSETTO:-0500
TZNAME:EST
END:STANDARD
BEGIN:DAYLIGHT
DTSTART:20210314T020000
TZOFFSETFROM:-0500
TZOFFSETTO:-0400
TZNAME:EDT
END:DAYLIGHT
END:VTIMEZONE
BEGIN:VEVENT
UID:calendar.25374.field_fc_date.0@culturefly.org
DTSTAMP:20260426T003147Z
ATTACH;FMTTYPE=image/jpeg:https://culturefly.org/sites/default/files/104949
 916_3429301610415370_7509848039351257265_o.jpg
CATEGORIES:,,
CREATED:20200702T194328Z
DESCRIPTION:The purpose of the New Timbuktu Community Education Institute i
 s to provide  high quality professional development that is based on and d
 raws from  methodologies that are derived from the bodies of work and comm
 unity based  institutions that have traditionally been marginalized.
DTSTART;VALUE=DATE:20200801
DTEND;VALUE=DATE:20200802
LAST-MODIFIED:20200702T194328Z
LOCATION:Virtual Event!, This event takes place online., Participate from
  Anywhere you are!, MD
SUMMARY:New Timbuktu Community Education Institute - Summer 2020
URL;TYPE=URI:https://culturefly.org/calendar/event/25374/new-timbuktu-commu
 nity-education-institute-summer-2020
X-GBCA-NID:25374
END:VEVENT
END:VCALENDAR
