BEGIN:VCALENDAR
VERSION:2.0
PRODID:-//Date iCal v2.14-dev//NONSGML kigkonsult.se iCalcreator 2.16.6//
METHOD:PUBLISH
X-WR-CALNAME;VALUE=TEXT:Greater Baltimore Cultural Alliance
BEGIN:VTIMEZONE
TZID:America/New_York
BEGIN:STANDARD
DTSTART:20201101T020000
TZOFFSETFROM:-0400
TZOFFSETTO:-0500
TZNAME:EST
END:STANDARD
BEGIN:DAYLIGHT
DTSTART:20210314T020000
TZOFFSETFROM:-0500
TZOFFSETTO:-0400
TZNAME:EDT
END:DAYLIGHT
END:VTIMEZONE
BEGIN:VEVENT
UID:calendar.23183.field_fc_date.0@culturefly.org
DTSTAMP:20260425T120607Z
ATTACH;FMTTYPE=image/jpeg:https://culturefly.org/sites/default/files/rob%20
 curto.jpg
CATEGORIES:,
CREATED:20200527T015917Z
DESCRIPTION:FOLKAL POINT EXCLUSIVE BROADCAST!\n\nRob Curto is an accordioni
 st, pianist, composer, educator, and bandleader.  When able to share p
 hysical location with bandmates, his current project is  Fish Harmonics,
  a Philadelphia-based ensemble that plays adventurous,  unabashedly accor
 dion-focused American roots music that would have been  diving into a GREA
 T Spring season right about now.
DTSTART;TZID=America/New_York:20200605T190000
DTEND;TZID=America/New_York:20200605T203000
LAST-MODIFIED:20210614T162219Z
LOCATION:Virtual Event!, This event takes place online., Participate from
  Anywhere you are!, MD
SUMMARY:Folkal Point: Rob Curto Accordion Concert EXCLUSIVE BROADCAST
URL:https://www.instantseats.com/index.cfm?fuseaction=home.event&eventID=D9
 1E7449-C380-EADB-B091D04C6888D4D4
X-GBCA-NID:23183
END:VEVENT
END:VCALENDAR
