BEGIN:VCALENDAR
VERSION:2.0
PRODID:-//Date iCal v2.14-dev//NONSGML kigkonsult.se iCalcreator 2.16.6//
METHOD:PUBLISH
X-WR-CALNAME;VALUE=TEXT:Greater Baltimore Cultural Alliance
BEGIN:VTIMEZONE
TZID:America/New_York
BEGIN:STANDARD
DTSTART:20201101T020000
TZOFFSETFROM:-0400
TZOFFSETTO:-0500
TZNAME:EST
END:STANDARD
BEGIN:DAYLIGHT
DTSTART:20210314T020000
TZOFFSETFROM:-0500
TZOFFSETTO:-0400
TZNAME:EDT
END:DAYLIGHT
END:VTIMEZONE
BEGIN:VEVENT
UID:calendar.23151.field_fc_date.0@culturefly.org
DTSTAMP:20260425T103627Z
ATTACH;FMTTYPE=image/jpeg:https://culturefly.org/sites/default/files/event-
 image/One%20for%20the%20Books.jpg
CATEGORIES:,,,,Exhibition,
CREATED:20200517T214540Z
DESCRIPTION:Every spring for the past few years, Make Studio artists have 
 been invited to  come “up county”, to show their work in special exhibiti
 ons highlighting  inclusion, creativity, and community in the beautiful 
 public spaces of  Baltimore County Public Library's Hereford Branch. Sever
 al of our artists  have also developed and presented popular mixed media w
 orkshops to groups in  the library’s The Hive makerspace.
DTSTART;VALUE=DATE:20200516
DTEND;VALUE=DATE:20200701
GEO:+39.327852;-76.628057
LAST-MODIFIED:20200517T214540Z
LOCATION:Make Studio at the Schwing Art Center, 3326 Keswick Rd, Baltimor
 e, MD
SUMMARY:One for the Books: Online Exhibit & Virtual Art Workshops for Heref
 ord  Library
URL:http://www.make-studio.org
X-GBCA-NID:23151
END:VEVENT
END:VCALENDAR
