BEGIN:VCALENDAR
VERSION:2.0
PRODID:-//Date iCal v2.14-dev//NONSGML kigkonsult.se iCalcreator 2.16.6//
METHOD:PUBLISH
X-WR-CALNAME;VALUE=TEXT:Greater Baltimore Cultural Alliance
BEGIN:VTIMEZONE
TZID:America/New_York
BEGIN:STANDARD
DTSTART:20201101T020000
TZOFFSETFROM:-0400
TZOFFSETTO:-0500
TZNAME:EST
END:STANDARD
BEGIN:DAYLIGHT
DTSTART:20200308T020000
TZOFFSETFROM:-0500
TZOFFSETTO:-0400
TZNAME:EDT
END:DAYLIGHT
END:VTIMEZONE
BEGIN:VEVENT
UID:calendar.22474.field_fc_date.0@culturefly.org
DTSTAMP:20260421T220002Z
ATTACH;FMTTYPE=image/jpeg:https://culturefly.org/sites/default/files/u127/C
 atherineRussell-165Final3.jpg
CATEGORIES:,Performance
CREATED:20200206T202744Z
DESCRIPTION:The Baltimore Chamber Jazz Society hosts recent Grammy nominate
 d jazz  vocalist Catherine Russell in concert Sunday, March 1, 2020. Wit
 h her recent  GRAMMY nomination for Best Jazz Vocal Album, Alone Together
 , Russell  solidifies her reputation as one of the greatest interpreters 
 and performers  of American Popular Song. She is a rare talent, a genuine
  jazz and blues  vocalist who can sing virtually anything. Her repertoire 
 features gems from  the 1920s through the present—vital interpretations, 
 bursting with soul and  humor.
DTSTART;TZID=America/New_York:20200301T170000
DTEND;TZID=America/New_York:20200301T190000
GEO:+39.325755;-76.61944
LAST-MODIFIED:20210218T192315Z
LOCATION:Baltimore Museum of Art, 10 Art Museum Drive, Baltimore, MD
SUMMARY:Catherine Russell Concert
URL:http://www.baltimorechamberjazz.org
X-GBCA-NID:22474
END:VEVENT
END:VCALENDAR
