BEGIN:VCALENDAR
VERSION:2.0
PRODID:-//Date iCal v2.14-dev//NONSGML kigkonsult.se iCalcreator 2.16.6//
METHOD:PUBLISH
X-WR-CALNAME;VALUE=TEXT:Greater Baltimore Cultural Alliance
BEGIN:VTIMEZONE
TZID:America/New_York
BEGIN:STANDARD
DTSTART:20191103T020000
TZOFFSETFROM:-0400
TZOFFSETTO:-0500
TZNAME:EST
END:STANDARD
BEGIN:DAYLIGHT
DTSTART:20200308T020000
TZOFFSETFROM:-0500
TZOFFSETTO:-0400
TZNAME:EDT
END:DAYLIGHT
END:VTIMEZONE
BEGIN:VEVENT
UID:calendar.21214.field_fc_date.0@culturefly.org
DTSTAMP:20260421T203122Z
ATTACH;FMTTYPE=image/jpeg:https://culturefly.org/sites/default/files/event-
 image/small%20sq.jpg
CATEGORIES:,,,Performance,
CREATED:20190816T133613Z
DESCRIPTION:The FREE public festival will be held on the property of the Ce
 nter/West  development across the street from Poe House at 203 N. Amity St
 reet,  Baltimore. The two-day outdoor event will feature Edgar Allan Poe-
 themed art,  booksellers, vendors, food, and drink, celebrating Poe’s
  influence on our  culture, as well as main stage and other performance a
 nd reading  opportunities.
DTSTART;TZID=America/New_York:20191005T110000
DTEND;TZID=America/New_York:20191005T160000
GEO:+39.291448;-76.633067
LAST-MODIFIED:20190819T204855Z
LOCATION:Edgar Allan Poe House & Museum, 203 N. Amity Street, Baltimore,
  MD
RRULE:FREQ=DAILY;COUNT=1;INTERVAL=1;WKST=SU
SUMMARY:International Edgar Allan Poe Festival & Awards
URL:www.poefestinternational.com
X-GBCA-NID:21214
END:VEVENT
END:VCALENDAR
