BEGIN:VCALENDAR
VERSION:2.0
PRODID:-//Date iCal v2.14-dev//NONSGML kigkonsult.se iCalcreator 2.16.6//
METHOD:PUBLISH
X-WR-CALNAME;VALUE=TEXT:Greater Baltimore Cultural Alliance
BEGIN:VTIMEZONE
TZID:America/New_York
BEGIN:STANDARD
DTSTART:20191103T020000
TZOFFSETFROM:-0400
TZOFFSETTO:-0500
TZNAME:EST
END:STANDARD
BEGIN:DAYLIGHT
DTSTART:20200308T020000
TZOFFSETFROM:-0500
TZOFFSETTO:-0400
TZNAME:EDT
END:DAYLIGHT
END:VTIMEZONE
BEGIN:VEVENT
UID:calendar.21158.field_fc_date.0@culturefly.org
DTSTAMP:20260424T100053Z
ATTACH;FMTTYPE=image/jpeg:https://culturefly.org/sites/default/files/u1534/
 The%20Nutshells2.jpg
CATEGORIES:Exhibition,History & Heritage
CREATED:20190808T151033Z
DESCRIPTION:Frances Glessner Lee (1878-1962) crafted her Nutshell Studies o
 f Unexplained  Death to train homicide investigators to “convict the guilt
 y, clear the  innocent, and find the truth in a nutshell.” These diorama
 s of true crime  cases revolutionized homicide investigation and are still
  used for training.  Panelists will discuss Glessner Lee’s life and work a
 nd the process of  conserving and curating the Nutshells for display at th
 e Renwick Gallery in  2017. Light refreshments follow.
DTSTART;TZID=America/New_York:20191030T180000
DTEND;TZID=America/New_York:20191030T200000
GEO:+39.296862;-76.619012
LAST-MODIFIED:20191109T000336Z
LOCATION:Maryland Historical Society, 201 West Monument St, Baltimore, M
 D
SUMMARY:Investigating the Nutshell Studies of Unexplained Death
URL:https://www.mdhs.org/civicrm/event/info?reset=1&id=461
X-GBCA-NID:21158
END:VEVENT
END:VCALENDAR
