BEGIN:VCALENDAR
VERSION:2.0
PRODID:-//Date iCal v2.14-dev//NONSGML kigkonsult.se iCalcreator 2.16.6//
METHOD:PUBLISH
X-WR-CALNAME;VALUE=TEXT:Greater Baltimore Cultural Alliance
BEGIN:VTIMEZONE
TZID:America/New_York
BEGIN:STANDARD
DTSTART:20191103T020000
TZOFFSETFROM:-0400
TZOFFSETTO:-0500
TZNAME:EST
END:STANDARD
BEGIN:DAYLIGHT
DTSTART:20190310T020000
TZOFFSETFROM:-0500
TZOFFSETTO:-0400
RDATE:20200308T020000
TZNAME:EDT
END:DAYLIGHT
END:VTIMEZONE
BEGIN:VEVENT
UID:calendar.20101.field_fc_date.0@culturefly.org
DTSTAMP:20260419T133721Z
ATTACH;FMTTYPE=image/jpeg:https://culturefly.org/sites/default/files/event-
 image/mindful%20painting.jpg
CATEGORIES:,Lectures/ Workshops,,Lectures/ Workshops
CREATED:20190325T130639Z
DESCRIPTION:Utilizing mindfulness practices to enter fully into the present
  moment,  we’ll engage with art as a way to respond to experiences of nat
 ure, music,  poetry, imagery and memory. For curious people with or wit
 hout experience in  art and mindfulness. Activities include observing, li
 stening, reflecting,  expressing, drawing, painting, and more. Leave 
 with a deeper connection and  appreciation of beauty in the world.
DTSTART;TZID=America/New_York:20190403T183000
DTEND;TZID=America/New_York:20190403T203000
GEO:+39.365297;-76.629772
LAST-MODIFIED:20190325T141654Z
LOCATION:The Church of the Redeemer, 5603 North Charles Street (Corner of 
 Charles St. & Melrose Ave.), Baltimore, MD
RRULE:FREQ=WEEKLY;COUNT=4;INTERVAL=1;BYDAY=WE;WKST=SU
SUMMARY:Mindful Art
URL:https://www.innerharborwellness.com/adults
X-GBCA-NID:20101
END:VEVENT
END:VCALENDAR
