BEGIN:VCALENDAR
VERSION:2.0
PRODID:-//Date iCal v2.14-dev//NONSGML kigkonsult.se iCalcreator 2.16.6//
METHOD:PUBLISH
X-WR-CALNAME;VALUE=TEXT:Greater Baltimore Cultural Alliance
BEGIN:VTIMEZONE
TZID:America/New_York
BEGIN:STANDARD
DTSTART:20191103T020000
TZOFFSETFROM:-0400
TZOFFSETTO:-0500
TZNAME:EST
END:STANDARD
BEGIN:DAYLIGHT
DTSTART:20190310T020000
TZOFFSETFROM:-0500
TZOFFSETTO:-0400
RDATE:20200308T020000
TZNAME:EDT
END:DAYLIGHT
END:VTIMEZONE
BEGIN:VEVENT
UID:calendar.19963.field_fc_date.0@culturefly.org
DTSTAMP:20260421T094408Z
ATTACH;FMTTYPE=image/png:https://culturefly.org/sites/default/files/u497/Sc
 reen%20Shot%202019-03-04%20at%2012.38.13%20PM.png
CATEGORIES:,,Lectures/ Workshops,,,
CREATED:20190304T174045Z
DESCRIPTION:The UMBC Wind Ensemble, directed by Brian Kaufman, teams up w
 ith The Sounding  Board, Emmy nominated composer and violinist Daniel Ber
 nard Roumain,  singer-songwriter Diana Lawrence, UMBC’s Cleftomaniacs, 
 and other special  guests to present an interactive musical event that wil
 l explore how we can  navigate the current polarization in America. Music\
 , multimedia, and  spoken-word serve as catalysts for an interactive disc
 ussion with performers  and audience members moderated by Tom Hall, host 
 of WYPR’s Midday.
DTSTART;TZID=America/New_York:20190311T200000
DTEND;TZID=America/New_York:20190311T220000
LAST-MODIFIED:20190619T000413Z
LOCATION:Earl and Darielle Linehan Concert Hall, 1000 Hilltop Circle, Bal
 timore, MD
SUMMARY:Civil Discord: A Concert and Discussion with WYPR’s Tom Hall
URL:https://wp.me/p2xNJ1-2Ba
X-GBCA-NID:19963
END:VEVENT
END:VCALENDAR
