BEGIN:VCALENDAR
VERSION:2.0
PRODID:-//Date iCal v2.14-dev//NONSGML kigkonsult.se iCalcreator 2.16.6//
METHOD:PUBLISH
X-WR-CALNAME;VALUE=TEXT:Greater Baltimore Cultural Alliance
BEGIN:VTIMEZONE
TZID:America/New_York
BEGIN:STANDARD
DTSTART:20191103T020000
TZOFFSETFROM:-0400
TZOFFSETTO:-0500
TZNAME:EST
END:STANDARD
BEGIN:DAYLIGHT
DTSTART:20190310T020000
TZOFFSETFROM:-0500
TZOFFSETTO:-0400
TZNAME:EDT
END:DAYLIGHT
END:VTIMEZONE
BEGIN:VEVENT
UID:calendar.19389.field_fc_date.0@culturefly.org
DTSTAMP:20260425T174114Z
ATTACH;FMTTYPE=image/jpeg:https://culturefly.org/sites/default/files/u116/B
 lithe-NextDoor.jpg
CATEGORIES:,
CREATED:20181220T212248Z
DESCRIPTION:BLITHE SPIRIT - an improbable farce in 3 acts by Noel Coward Di
 rected by Fuzz Roark stage managed by Paul Saar Dec 14, 2018 - Jan 20, 2
 019 Fri & Sat at 8pm; Sun at 2pm Filled with the wit and charm of Noël Co
 ward, Blithe Spirit is a comedy gem!\n\nAs inspiration for his new novel\
 , fussy and cantankerous Charles Condomine  invites the wonderfully eccent
 ric medium, Madame Arcati to perform a seance  in his house.
DTSTART;TZID=America/New_York:20190104T200000
DTEND;TZID=America/New_York:20190104T230000
GEO:+39.299417;-76.613838
LAST-MODIFIED:20201003T000459Z
LOCATION:Spotlighters Theatre, 817 Saint Paul Street, Baltimore, MD
RRULE:FREQ=WEEKLY;UNTIL=20190121T095959Z;INTERVAL=1;BYDAY=FR,SA;WKST=SU
SUMMARY:Blithe Spirit - Spotlighters
URL:http://www.spotlighters.org/BlitheSpirit
X-GBCA-NID:19389
END:VEVENT
END:VCALENDAR
