BEGIN:VCALENDAR
VERSION:2.0
PRODID:-//Date iCal v2.14-dev//NONSGML kigkonsult.se iCalcreator 2.16.6//
METHOD:PUBLISH
X-WR-CALNAME;VALUE=TEXT:Greater Baltimore Cultural Alliance
BEGIN:VTIMEZONE
TZID:America/New_York
BEGIN:STANDARD
DTSTART:20181104T020000
TZOFFSETFROM:-0400
TZOFFSETTO:-0500
RDATE:20191103T020000
TZNAME:EST
END:STANDARD
BEGIN:DAYLIGHT
DTSTART:20190310T020000
TZOFFSETFROM:-0500
TZOFFSETTO:-0400
TZNAME:EDT
END:DAYLIGHT
END:VTIMEZONE
BEGIN:VEVENT
UID:calendar.19158.field_fc_date.0@culturefly.org
DTSTAMP:20260422T004517Z
ATTACH;FMTTYPE=image/jpeg:https://culturefly.org/sites/default/files/offthe
 webposter%20%281%29.jpg
CATEGORIES:,Exhibition
CREATED:20181113T182210Z
DESCRIPTION:Over 100 Baltimore Area artists bring some of the regions newes
 t art to the  oldest museum building in America!\n\nOpening WEDNESDAY, No
 vember 14th, 6pm - 9pm FREE and open to the public! On display through De
 cember 16, 2018\n\nat the Peale 225 Holliday Street Baltimore, MD 21201 
 (map here)
DTSTART;TZID=America/New_York:20181114T180000
DTEND;TZID=America/New_York:20181217T200000
GEO:+39.291844;-76.610129
LAST-MODIFIED:20181113T182210Z
LOCATION:The Peale Center for Baltimore History and Architecture, 225 Holl
 iday Street, Baltimore, MD
SUMMARY:Baker OFF THE WEB at The Peale
URL:https://bakerartist.org/about-us/blog/baker-web-peale
X-GBCA-NID:19158
END:VEVENT
END:VCALENDAR
