BEGIN:VCALENDAR
VERSION:2.0
PRODID:-//Date iCal v2.14-dev//NONSGML kigkonsult.se iCalcreator 2.16.6//
METHOD:PUBLISH
X-WR-CALNAME;VALUE=TEXT:Greater Baltimore Cultural Alliance
BEGIN:VTIMEZONE
TZID:America/New_York
BEGIN:STANDARD
DTSTART:20181104T020000
TZOFFSETFROM:-0400
TZOFFSETTO:-0500
RDATE:20191103T020000
TZNAME:EST
END:STANDARD
BEGIN:DAYLIGHT
DTSTART:20190310T020000
TZOFFSETFROM:-0500
TZOFFSETTO:-0400
TZNAME:EDT
END:DAYLIGHT
END:VTIMEZONE
BEGIN:VEVENT
UID:calendar.18826.field_fc_date.0@culturefly.org
DTSTAMP:20260424T170746Z
ATTACH;FMTTYPE=image/png:https://culturefly.org/sites/default/files/event-i
 mage/Culture%20Fly_Nov%20Family.png
CATEGORIES:Lectures/ Workshops,,History & Heritage,Lectures/ Workshops
CREATED:20181012T142448Z
DESCRIPTION:Join us for our free Family Second Sunday drop-in activity. Thi
 s month we are  celebrating the 1970s and making a local vintage Hon acces
 sory. View 1970s  vintage objects from our collection and decorate your ow
 n cat eyeglasses. No  advanced registration is required.
DTSTART;TZID=America/New_York:20181111T130000
DTEND;TZID=America/New_York:20181111T160000
GEO:+39.296862;-76.619012
LAST-MODIFIED:20181015T131000Z
LOCATION:Maryland Historical Society, 201 West Monument St, Baltimore, M
 D
RRULE:FREQ=MONTHLY;UNTIL=20190513T075959Z;INTERVAL=1;BYDAY=+2SU;BYMONTH=1,2
 ,3,4,5,11,12;WKST=SU
SUMMARY:Family Second Sundays
URL:http://www.mdhs.org/events
X-GBCA-NID:18826
END:VEVENT
END:VCALENDAR
