BEGIN:VCALENDAR
VERSION:2.0
PRODID:-//Date iCal v2.14-dev//NONSGML kigkonsult.se iCalcreator 2.16.6//
METHOD:PUBLISH
X-WR-CALNAME;VALUE=TEXT:Greater Baltimore Cultural Alliance
BEGIN:VTIMEZONE
TZID:America/New_York
BEGIN:STANDARD
DTSTART:20181104T020000
TZOFFSETFROM:-0400
TZOFFSETTO:-0500
RDATE:20191103T020000
TZNAME:EST
END:STANDARD
BEGIN:DAYLIGHT
DTSTART:20190310T020000
TZOFFSETFROM:-0500
TZOFFSETTO:-0400
TZNAME:EDT
END:DAYLIGHT
END:VTIMEZONE
BEGIN:VEVENT
UID:calendar.18706.field_fc_date.0@culturefly.org
DTSTAMP:20260425T103741Z
ATTACH;FMTTYPE=image/jpeg:https://culturefly.org/sites/default/files/u762/I
 ngolfsson-Stoupel-201502033D3757_priske-740x416.jpeg
CATEGORIES:
CREATED:20181004T172317Z
DESCRIPTION:Duo Ingolfsson-Stoupel: Judith Ingolfsson, violin and Vladimir
  Stoupel, piano with Violaine Melançon, violin Victoria Chiang, viola\n
 \nMichael Kannen, violoncello Sidney M. Friedberg Chair in Chamber Music
 \n\nSergei Prokofiev: Five Melodies for Violin and Piano, Op. 35 bis Dmit
 ri Shostakovich: Sonata for Violin and Piano, Op. 134 Louis Vierne: Piano
  Quintet in C minor, Op. 42
DTSTART;TZID=America/New_York:20181102T193000
DTEND;TZID=America/New_York:20181102T213000
GEO:+39.297183;-76.615203
LAST-MODIFIED:20200920T000007Z
LOCATION:Leith Symington Griswold Hall, 1 East Mount Vernon Place, Baltim
 ore, MD
SUMMARY:Forbidden Light: Communicating Light in a Dark World
URL:https://peabody.jhu.edu/event/forbidden-light/
X-GBCA-NID:18706
END:VEVENT
END:VCALENDAR
