BEGIN:VCALENDAR
VERSION:2.0
PRODID:-//Date iCal v2.14-dev//NONSGML kigkonsult.se iCalcreator 2.16.6//
METHOD:PUBLISH
X-WR-CALNAME;VALUE=TEXT:Greater Baltimore Cultural Alliance
BEGIN:VTIMEZONE
TZID:America/New_York
BEGIN:STANDARD
DTSTART:20181104T020000
TZOFFSETFROM:-0400
TZOFFSETTO:-0500
TZNAME:EST
END:STANDARD
BEGIN:DAYLIGHT
DTSTART:20190310T020000
TZOFFSETFROM:-0500
TZOFFSETTO:-0400
TZNAME:EDT
END:DAYLIGHT
END:VTIMEZONE
BEGIN:VEVENT
UID:calendar.18427.field_fc_date.0@culturefly.org
DTSTAMP:20260424T051656Z
ATTACH;FMTTYPE=image/jpeg:https://culturefly.org/sites/default/files/u160/W
 ilson%2C%20Emily%20%28c%29%20Ralph%20Rosen%5B2%5D_0.jpg
CATEGORIES:,Lectures/ Workshops,,,,
CREATED:20180911T162452Z
DESCRIPTION:The first great adventure story in the Western canon, The /Ody
 ssey/ is a poem  about violence and the aftermath of war; about wealth, 
 poverty, and power;  about marriage and family; about travelers, hospi
 tality, and the yearning for  home. Emily Wilson's new translation — an i
 nternational bestseller —  captivates readers from the opening sentence: “
 Tell me about a complicated  man.” Beginning this fall, students in four 
 Maryland high schools will  create new theater work, artwork, and histor
 y projects using this new,  accessible translation of the Odyssey.
DTSTART;TZID=America/New_York:20181012T160000
DTEND;TZID=America/New_York:20181012T180000
GEO:+39.359529;-76.611216
LAST-MODIFIED:20190809T000159Z
LOCATION:Enoch Pratt Free Library: Govans Branch, 5714 Bellona Avenue, Ba
 ltimore, MD
SUMMARY:Superstar 'Odyssey' Translator Emily Wilson
URL:https://bit.ly/2ueXsny
X-GBCA-NID:18427
END:VEVENT
END:VCALENDAR
