BEGIN:VCALENDAR
VERSION:2.0
PRODID:-//Date iCal v2.14-dev//NONSGML kigkonsult.se iCalcreator 2.16.6//
METHOD:PUBLISH
X-WR-CALNAME;VALUE=TEXT:Greater Baltimore Cultural Alliance
BEGIN:VTIMEZONE
TZID:America/New_York
BEGIN:STANDARD
DTSTART:20181104T020000
TZOFFSETFROM:-0400
TZOFFSETTO:-0500
TZNAME:EST
END:STANDARD
BEGIN:DAYLIGHT
DTSTART:20190310T020000
TZOFFSETFROM:-0500
TZOFFSETTO:-0400
TZNAME:EDT
END:DAYLIGHT
END:VTIMEZONE
BEGIN:VEVENT
UID:calendar.18207.field_fc_date.0@culturefly.org
DTSTAMP:20260421T200648Z
ATTACH;FMTTYPE=image/jpeg:https://culturefly.org/sites/default/files/Baker_
 Exhibition_Invite_2018.jpg
CATEGORIES:,Exhibition,,,Performance
CREATED:20180823T173251Z
DESCRIPTION:Join the Greater Baltimore Cultural Alliance and the William G.
  Baker, Jr.  Memorial Fund to celebrate the exhibition opening for the 20
 17 & 2018 Baker  Artist Awardees in Visual and Interdisciplinary Arts:\n\n
 Abraham Burickson, Sara Dittrich, David Marion & Amy Sherald\n\nThis spe
 cial evening will also feature performances, readings, and screenings  f
 rom the 2018 Baker Artist Awardees in Performing, Music, Film/ Video and
   Literary Arts:\n\nLafayette Gilchrist, Dora Malech, Margaret Rorison,
  and Lisi Stoessel\n\nWednesday, September 12, 2018
DTSTART;TZID=America/New_York:20180912T180000
DTEND;TZID=America/New_York:20180912T210000
GEO:+39.325755;-76.61944
LAST-MODIFIED:20180823T173829Z
LOCATION:Baltimore Museum of Art, 10 Art Museum Drive, Baltimore, MD
SUMMARY:Baker Artist Award Reception
URL:https://bakerartist.org/
X-GBCA-NID:18207
END:VEVENT
END:VCALENDAR
