BEGIN:VCALENDAR
VERSION:2.0
PRODID:-//Date iCal v2.14-dev//NONSGML kigkonsult.se iCalcreator 2.16.6//
METHOD:PUBLISH
X-WR-CALNAME;VALUE=TEXT:Greater Baltimore Cultural Alliance
BEGIN:VTIMEZONE
TZID:America/New_York
BEGIN:STANDARD
DTSTART:20181104T020000
TZOFFSETFROM:-0400
TZOFFSETTO:-0500
TZNAME:EST
END:STANDARD
BEGIN:DAYLIGHT
DTSTART:20190310T020000
TZOFFSETFROM:-0500
TZOFFSETTO:-0400
TZNAME:EDT
END:DAYLIGHT
END:VTIMEZONE
BEGIN:VEVENT
UID:calendar.18185.field_fc_date.0@culturefly.org
DTSTAMP:20260421T201753Z
ATTACH;FMTTYPE=image/jpeg:https://culturefly.org/sites/default/files/u151/M
 adonnari.2018.jpeg
CATEGORIES:,,
CREATED:20180821T230855Z
DESCRIPTION:Street painting, music, theatre, magic, art market, Childr
 en’s Chalk  Center, al fresco dining. Fifty-one artists from Italy, Mexi
 co and all over  the US will paint S.High Street classical and 3D contempo
 rary works with  chalk and chalk tempera. The Festival is visually exquisi
 te and this year is  enhanced by performances by over 100 musicians— Gover
 nor Hogan has named  our Festival a headliner of Maryland’s Summer of Musi
 c! The theme is  “respect” and our artists will give vision and voice to t
 hat theme with  their diverse and insightful approaches. Join us!
DTSTART;VALUE=DATE:20180907
DTEND;VALUE=DATE:20180908
GEO:+39.287589;-76.603947
LAST-MODIFIED:20191118T000336Z
LOCATION:Little Italy, 830 East Pratt Street, Baltimore, MD
SUMMARY:THE LITTLE ITALY MADONNARI ARTS FESTIVAL
URL:www.LittleItalyMadonnari.com
X-GBCA-NID:18185
END:VEVENT
END:VCALENDAR
