BEGIN:VCALENDAR
VERSION:2.0
PRODID:-//Date iCal v2.14-dev//NONSGML kigkonsult.se iCalcreator 2.16.6//
METHOD:PUBLISH
X-WR-CALNAME;VALUE=TEXT:Greater Baltimore Cultural Alliance
BEGIN:VTIMEZONE
TZID:America/New_York
BEGIN:STANDARD
DTSTART:20191103T020000
TZOFFSETFROM:-0400
TZOFFSETTO:-0500
TZNAME:EST
END:STANDARD
BEGIN:DAYLIGHT
DTSTART:20190310T020000
TZOFFSETFROM:-0500
TZOFFSETTO:-0400
TZNAME:EDT
END:DAYLIGHT
END:VTIMEZONE
BEGIN:VEVENT
UID:calendar.17907.field_fc_date.0@culturefly.org
DTSTAMP:20260421T175037Z
ATTACH;FMTTYPE=image/jpeg:https://culturefly.org/sites/default/files/u166/F
 Y19_Instagram-CoverPhotosWonderful.jpg
CATEGORIES:,
CREATED:20180720T160611Z
DESCRIPTION:Imagine a knock at the door from the hand complicit in a family
  tragedy: When  the repentant driver in a fatal collision seeks forgivenes
 s from the Amish  family whose sons’ lives he claimed, faith guides them 
 to welcome him into  their community—and their home. But as inconvenient t
 ruths from the  family’s past are discovered, can their outpouring of emp
 athy be as  limitless as it seems?
DTSTART;TZID=America/New_York:20190129T193000
DTEND;TZID=America/New_York:20190129T220000
GEO:+39.290118;-76.62039
LAST-MODIFIED:20180829T000051Z
LOCATION:Everyman Theatre, 315 W. Fayette Street, Baltimore, MD
RRULE:FREQ=WEEKLY;UNTIL=20190304T095959Z;INTERVAL=1;BYDAY=SU,TU,WE,TH,FR,SA
 ;WKST=SU
SUMMARY:Everything is Wonderful
URL:http://everymantheatre.org/everything-wonderful
X-GBCA-NID:17907
END:VEVENT
END:VCALENDAR
