BEGIN:VCALENDAR
VERSION:2.0
PRODID:-//Date iCal v2.14-dev//NONSGML kigkonsult.se iCalcreator 2.16.6//
METHOD:PUBLISH
X-WR-CALNAME;VALUE=TEXT:Greater Baltimore Cultural Alliance
BEGIN:VTIMEZONE
TZID:America/New_York
BEGIN:STANDARD
DTSTART:20181104T020000
TZOFFSETFROM:-0400
TZOFFSETTO:-0500
TZNAME:EST
END:STANDARD
BEGIN:DAYLIGHT
DTSTART:20190310T020000
TZOFFSETFROM:-0500
TZOFFSETTO:-0400
TZNAME:EDT
END:DAYLIGHT
END:VTIMEZONE
BEGIN:VEVENT
UID:calendar.17862.field_fc_date.0@culturefly.org
DTSTAMP:20260421T084940Z
ATTACH;FMTTYPE=image/jpeg:https://culturefly.org/sites/default/files/u6745/
 FB%20page%20cover-%20cover%20lo%20resolution.jpg
CATEGORIES:,
CREATED:20180716T152221Z
DESCRIPTION:Amy Nathan, author of the new book 'Making Time for Making Mus
 ic: How to  Bring Music into Your Busy Life' (Oxford University Press, 20
 18), will share  real-life success stories and advice from some of the mo
 re than 300 busy  adults (including several from the Baltimore area) who a
 re featured in her  new book about avocational musicians. Their experience
 s show that it is  possible to fit music-making into a busy life.
DTSTART;TZID=America/New_York:20180728T180000
DTEND;TZID=America/New_York:20180728T193000
GEO:+39.373433;-76.650767
LAST-MODIFIED:20190814T000159Z
LOCATION:The Ivy Bookshop, 6080 Falls Rd, Baltimore, MD
SUMMARY:Book Signing: MAKING TIME FOR MAKING MUSIC: How to Bring Music into
  Your Busy  Life
URL:https://www.theivybookshop.com/upcomingevent/4518
X-GBCA-NID:17862
END:VEVENT
END:VCALENDAR
