BEGIN:VCALENDAR
VERSION:2.0
PRODID:-//Date iCal v2.14-dev//NONSGML kigkonsult.se iCalcreator 2.16.6//
METHOD:PUBLISH
X-WR-CALNAME;VALUE=TEXT:Greater Baltimore Cultural Alliance
BEGIN:VTIMEZONE
TZID:America/New_York
BEGIN:STANDARD
DTSTART:20181104T020000
TZOFFSETFROM:-0400
TZOFFSETTO:-0500
TZNAME:EST
END:STANDARD
BEGIN:DAYLIGHT
DTSTART:20190310T020000
TZOFFSETFROM:-0500
TZOFFSETTO:-0400
TZNAME:EDT
END:DAYLIGHT
END:VTIMEZONE
BEGIN:VEVENT
UID:calendar.17603.field_fc_date.0@culturefly.org
DTSTAMP:20260420T182215Z
ATTACH;FMTTYPE=image/jpeg:https://culturefly.org/sites/default/files/u6587/
 Conversations_aaron%20henkin_flyer_edt3.jpg
CATEGORIES:,Lectures/ Workshops,,,
CREATED:20180620T173014Z
DESCRIPTION:*Join Mayor Catherine E. Pugh for an intimate conversation with
  Aaron Henkin,  Producer of 'Out of the Blocks' and Director of new local
  programming for  WYPR.*\n\n/About Aaron:/
DTSTART;TZID=America/New_York:20180625T180000
DTEND;TZID=America/New_York:20180625T200000
GEO:+39.289077;-76.612142
LAST-MODIFIED:20180620T174034Z
LOCATION:Chesapeake Shakespeare Company, 7 South Calvert Street, Baltimor
 e, MD
SUMMARY:Mayor Catherine E. Pugh Conversations w/ 'Out of the Blocks' Co-Hos
 t: Aaron  Henkin
URL:https://www.eventbrite.com/e/mayor-catherine-e-pugh-conversations-w-out
 -of-the-blocks-co-host-aaron-henkin-tickets-46422403659
X-GBCA-NID:17603
END:VEVENT
END:VCALENDAR
