BEGIN:VCALENDAR
VERSION:2.0
PRODID:-//Date iCal v2.14-dev//NONSGML kigkonsult.se iCalcreator 2.16.6//
METHOD:PUBLISH
X-WR-CALNAME;VALUE=TEXT:Greater Baltimore Cultural Alliance
BEGIN:VTIMEZONE
TZID:America/New_York
BEGIN:STANDARD
DTSTART:20181104T020000
TZOFFSETFROM:-0400
TZOFFSETTO:-0500
TZNAME:EST
END:STANDARD
BEGIN:DAYLIGHT
DTSTART:20190310T020000
TZOFFSETFROM:-0500
TZOFFSETTO:-0400
TZNAME:EDT
END:DAYLIGHT
END:VTIMEZONE
BEGIN:VEVENT
UID:calendar.16613.field_fc_date.0@culturefly.org
DTSTAMP:20260420T120050Z
ATTACH;FMTTYPE=image/jpeg:https://culturefly.org/sites/default/files/Artsmi
 xer.jpg
CATEGORIES:,,Exhibition,,,,,,Performance,
CREATED:20180315T153712Z
DESCRIPTION:Join Arts Administrators of Color and The Urban Arts Leadership
  Program for  fellowship and networking with arts leaders in the Baltimore
 -DC area. Be sure  to bring business cards! Free beer, wine, and light h
 ors d'oeuvres!
DTSTART;TZID=America/New_York:20180413T190000
DTEND;TZID=America/New_York:20180413T210000
GEO:+39.311296;-76.618828
LAST-MODIFIED:20180315T201511Z
LOCATION:The Motor House, 120 W North Ave, Baltimore, MD
SUMMARY:Arts Mixer
URL:https://www.aacdmv.org/
X-GBCA-NID:16613
END:VEVENT
END:VCALENDAR
