BEGIN:VCALENDAR
VERSION:2.0
PRODID:-//Date iCal v2.14-dev//NONSGML kigkonsult.se iCalcreator 2.16.6//
METHOD:PUBLISH
X-WR-CALNAME;VALUE=TEXT:Greater Baltimore Cultural Alliance
BEGIN:VTIMEZONE
TZID:America/New_York
BEGIN:STANDARD
DTSTART:20181104T020000
TZOFFSETFROM:-0400
TZOFFSETTO:-0500
TZNAME:EST
END:STANDARD
BEGIN:DAYLIGHT
DTSTART:20190310T020000
TZOFFSETFROM:-0500
TZOFFSETTO:-0400
TZNAME:EDT
END:DAYLIGHT
END:VTIMEZONE
BEGIN:VEVENT
UID:calendar.16177.field_fc_date.0@culturefly.org
DTSTAMP:20260425T102139Z
ATTACH;FMTTYPE=image/jpeg:https://culturefly.org/sites/default/files/u151/k
 ash.wright%2Ctrio.JPG
CATEGORIES:
CREATED:20180129T223411Z
DESCRIPTION:“Classic jazz for the contemporary audience” has been the mantr
 a for this  band since its inception in 2010. Led by pianist/composer/arra
 nger Prakash  Wright, the trio focuses original compositions and unique a
 rrangements of  jazz standards and popular songs by artists like Sting, S
 tevie Wonder, and  Michael Jackson.
DTSTART;TZID=America/New_York:20180714T180000
DTEND;TZID=America/New_York:20180714T210000
GEO:+39.286154;-76.601827
LAST-MODIFIED:20191118T000336Z
LOCATION:Cabaret at Germano's, 300 South High Street, Baltimore, MD
SUMMARY:KASH WRIGHT TRIO
URL:www.germanospiattini.com/events
X-GBCA-NID:16177
END:VEVENT
END:VCALENDAR
