BEGIN:VCALENDAR
VERSION:2.0
PRODID:-//Date iCal v2.14-dev//NONSGML kigkonsult.se iCalcreator 2.16.6//
METHOD:PUBLISH
X-WR-CALNAME;VALUE=TEXT:Greater Baltimore Cultural Alliance
BEGIN:VTIMEZONE
TZID:America/New_York
BEGIN:STANDARD
DTSTART:20181104T020000
TZOFFSETFROM:-0400
TZOFFSETTO:-0500
TZNAME:EST
END:STANDARD
BEGIN:DAYLIGHT
DTSTART:20190310T020000
TZOFFSETFROM:-0500
TZOFFSETTO:-0400
TZNAME:EDT
END:DAYLIGHT
END:VTIMEZONE
BEGIN:VEVENT
UID:calendar.15911.field_fc_date.0@culturefly.org
DTSTAMP:20260421T170628Z
ATTACH;FMTTYPE=image/jpeg:https://culturefly.org/sites/default/files/event-
 image/chamber.jpg
CATEGORIES:,,Performance
CREATED:20180103T203910Z
DESCRIPTION:*Department of Music Honors Showcase Tuesday, May 15, 7:30 p.
 m. Earl and Darielle Linehan Concert Hall*\n\nThe Department of Music Hono
 rs Showcase is a culmination of students’ work  in the areas of solo perfo
 rmance, chamber ensemble performance, and  composition.\n\nProgram and p
 erformers to be announced.\n\nAdmission is free.
DTSTART;TZID=America/New_York:20180515T193000
DTEND;TZID=America/New_York:20180515T213000
GEO:+39.255114;-76.711196
LAST-MODIFIED:20181108T000240Z
LOCATION:UMBC Earl and Darielle Linehan Concert Hall, 1000 Hilltop Circle\
 , Baltimore, MD
SUMMARY:UMBC Department of Music Honors Showcase
URL:https://wp.me/p2xNJ1-2i3
X-GBCA-NID:15911
END:VEVENT
END:VCALENDAR
