BEGIN:VCALENDAR
VERSION:2.0
PRODID:-//Date iCal v2.14-dev//NONSGML kigkonsult.se iCalcreator 2.16.6//
METHOD:PUBLISH
X-WR-CALNAME;VALUE=TEXT:Greater Baltimore Cultural Alliance
BEGIN:VTIMEZONE
TZID:America/New_York
BEGIN:STANDARD
DTSTART:20181104T020000
TZOFFSETFROM:-0400
TZOFFSETTO:-0500
TZNAME:EST
END:STANDARD
BEGIN:DAYLIGHT
DTSTART:20180311T020000
TZOFFSETFROM:-0500
TZOFFSETTO:-0400
TZNAME:EDT
END:DAYLIGHT
END:VTIMEZONE
BEGIN:VEVENT
UID:calendar.15670.field_fc_date.0@culturefly.org
DTSTAMP:20260421T132520Z
ATTACH;FMTTYPE=image/jpeg:https://culturefly.org/sites/default/files/event-
 image/Hispanic9_174.jpg
CATEGORIES:Lectures/ Workshops,,History & Heritage
CREATED:20171205T180432Z
DESCRIPTION:/Admission is free with museum entry, which is $15.95 for indi
 viduals two and  up. Members and children under two enter free./\n\nExplor
 e Hispanic Heritage with fun learning activities! Use your artistic  skill
 s to create maracas, learn about the important Day of the Dead tradition 
  as you decorate Dia de los Muertos Skulls, join in an interactive theate
 r  performance featuring the Mayan story Rosha and the Sun, and watch as 
  imaginations go wild during our interactive story times. Plus enjoy Circu
 s  Science and interactive science projects!
DTSTART;TZID=America/New_York:20180120T100000
DTEND;TZID=America/New_York:20180120T170000
GEO:+39.288934;-76.606288
LAST-MODIFIED:20180815T000022Z
LOCATION:Port Discovery Children's Museum, 35 Market Place, Baltimore, M
 D
SUMMARY:Little Explorer's Day: Explore Hispanic Heritage
URL:https://www.portdiscovery.org/visit/calendar/event/885/little-explorers
 -day-explore-hispanic-heritage
X-GBCA-NID:15670
END:VEVENT
END:VCALENDAR
